BEGIN:VCALENDAR
VERSION:2.0
PRODID:-//Buffalo Niagara Waterkeeper - ECPv6.15.18//NONSGML v1.0//EN
CALSCALE:GREGORIAN
METHOD:PUBLISH
X-ORIGINAL-URL:https://bnwaterkeeper.org
X-WR-CALDESC:Events for Buffalo Niagara Waterkeeper
REFRESH-INTERVAL;VALUE=DURATION:PT1H
X-Robots-Tag:noindex
X-PUBLISHED-TTL:PT1H
BEGIN:VTIMEZONE
TZID:America/New_York
BEGIN:DAYLIGHT
TZOFFSETFROM:-0500
TZOFFSETTO:-0400
TZNAME:EDT
DTSTART:20240310T070000
END:DAYLIGHT
BEGIN:STANDARD
TZOFFSETFROM:-0400
TZOFFSETTO:-0500
TZNAME:EST
DTSTART:20241103T060000
END:STANDARD
BEGIN:DAYLIGHT
TZOFFSETFROM:-0500
TZOFFSETTO:-0400
TZNAME:EDT
DTSTART:20250309T070000
END:DAYLIGHT
BEGIN:STANDARD
TZOFFSETFROM:-0400
TZOFFSETTO:-0500
TZNAME:EST
DTSTART:20251102T060000
END:STANDARD
BEGIN:DAYLIGHT
TZOFFSETFROM:-0500
TZOFFSETTO:-0400
TZNAME:EDT
DTSTART:20260308T070000
END:DAYLIGHT
BEGIN:STANDARD
TZOFFSETFROM:-0400
TZOFFSETTO:-0500
TZNAME:EST
DTSTART:20261101T060000
END:STANDARD
END:VTIMEZONE
BEGIN:VEVENT
DTSTART;TZID=America/New_York:20250630T173000
DTEND;TZID=America/New_York:20250630T193000
DTSTAMP:20260425T160000
CREATED:20250624T134955Z
LAST-MODIFIED:20250624T134955Z
UID:41855-1751304600-1751311800@bnwaterkeeper.org
SUMMARY:Cheers to the Shore!
DESCRIPTION:Join the Ralph Wilson Park Conservancy and Buffalo Niagara Waterkeeper for an exciting happy hour to celebrate the transformation at Ralph Wilson Park — a 100-acre waterfront destination in downtown Buffalo! \nOn June 30 at 5:30 p.m. get a sneak peek at a brand-new\, short film showcasing the remarkable rehabilitation of Ralph Wilson Park’s one mile of shoreline. This is at Buffalo Brewing Company Taproom\, which is located at 314 Myrtle Ave. Tickets are $35\, get them here. \nLearn how local\, state\, and federal partners are working together to build a best-in-class model for shoreline restoration and creating thriving coastal wetlands for fish\, wildlife\, the Buffalo community\, and the Great Lakes Region. \nThe evening will also feature the debut of All Shored Up\, the Ralph Wilson Park beer brewed by Buffalo Brewing Company! \nGet Tickets Here
URL:https://bnwaterkeeper.org/event/cheers-to-the-shore/
LOCATION:Buffalo Brewing Company Taproom\, 314 Myrtle Ave.\, Buffalo\, NY\, 14204\, United States
CATEGORIES:Events
END:VEVENT
END:VCALENDAR