BEGIN:VCALENDAR
VERSION:2.0
PRODID:-//Buffalo Niagara Waterkeeper - ECPv6.15.18//NONSGML v1.0//EN
CALSCALE:GREGORIAN
METHOD:PUBLISH
X-WR-CALNAME:Buffalo Niagara Waterkeeper
X-ORIGINAL-URL:https://bnwaterkeeper.org
X-WR-CALDESC:Events for Buffalo Niagara Waterkeeper
REFRESH-INTERVAL;VALUE=DURATION:PT1H
X-Robots-Tag:noindex
X-PUBLISHED-TTL:PT1H
BEGIN:VTIMEZONE
TZID:America/New_York
BEGIN:DAYLIGHT
TZOFFSETFROM:-0500
TZOFFSETTO:-0400
TZNAME:EDT
DTSTART:20240310T070000
END:DAYLIGHT
BEGIN:STANDARD
TZOFFSETFROM:-0400
TZOFFSETTO:-0500
TZNAME:EST
DTSTART:20241103T060000
END:STANDARD
BEGIN:DAYLIGHT
TZOFFSETFROM:-0500
TZOFFSETTO:-0400
TZNAME:EDT
DTSTART:20250309T070000
END:DAYLIGHT
BEGIN:STANDARD
TZOFFSETFROM:-0400
TZOFFSETTO:-0500
TZNAME:EST
DTSTART:20251102T060000
END:STANDARD
BEGIN:DAYLIGHT
TZOFFSETFROM:-0500
TZOFFSETTO:-0400
TZNAME:EDT
DTSTART:20260308T070000
END:DAYLIGHT
BEGIN:STANDARD
TZOFFSETFROM:-0400
TZOFFSETTO:-0500
TZNAME:EST
DTSTART:20261101T060000
END:STANDARD
END:VTIMEZONE
BEGIN:VEVENT
DTSTART;TZID=America/New_York:20250802T120000
DTEND;TZID=America/New_York:20250802T130000
DTSTAMP:20260425T125630
CREATED:20250505T144136Z
LAST-MODIFIED:20250505T144257Z
UID:41573-1754136000-1754139600@bnwaterkeeper.org
SUMMARY:BWELL Lunch & Learn - Scajaquada Watershed Event
DESCRIPTION:Join BWELL for an engaging Lunch & Learn event hosted in collaboration with the Buffalo Sewer Authority. \nThis session is Aug. 2 from noon to 1 p.m. at the Buffalo & Erie County Public Library. This forum will dive into the Queen City Clean Waters initiative\, with a special focus on the transformative efforts underway along the Black Rock Canal and Scajaquada Creek. \nVisit the BWELL website for more information closer to the event. \nBWELL Website
URL:https://bnwaterkeeper.org/event/bwell-lunch-learn-aug-2025/
LOCATION:Buffalo & Erie County Public Library\, 1 Lafayette Square\, Buffalo\, NY\, 14203\, United States
CATEGORIES:Events
END:VEVENT
END:VCALENDAR