BEGIN:VCALENDAR
VERSION:2.0
PRODID:-//Buffalo Niagara Waterkeeper - ECPv6.15.18//NONSGML v1.0//EN
CALSCALE:GREGORIAN
METHOD:PUBLISH
X-ORIGINAL-URL:https://bnwaterkeeper.org
X-WR-CALDESC:Events for Buffalo Niagara Waterkeeper
REFRESH-INTERVAL;VALUE=DURATION:PT1H
X-Robots-Tag:noindex
X-PUBLISHED-TTL:PT1H
BEGIN:VTIMEZONE
TZID:America/New_York
BEGIN:DAYLIGHT
TZOFFSETFROM:-0500
TZOFFSETTO:-0400
TZNAME:EDT
DTSTART:20240310T070000
END:DAYLIGHT
BEGIN:STANDARD
TZOFFSETFROM:-0400
TZOFFSETTO:-0500
TZNAME:EST
DTSTART:20241103T060000
END:STANDARD
BEGIN:DAYLIGHT
TZOFFSETFROM:-0500
TZOFFSETTO:-0400
TZNAME:EDT
DTSTART:20250309T070000
END:DAYLIGHT
BEGIN:STANDARD
TZOFFSETFROM:-0400
TZOFFSETTO:-0500
TZNAME:EST
DTSTART:20251102T060000
END:STANDARD
BEGIN:DAYLIGHT
TZOFFSETFROM:-0500
TZOFFSETTO:-0400
TZNAME:EDT
DTSTART:20260308T070000
END:DAYLIGHT
BEGIN:STANDARD
TZOFFSETFROM:-0400
TZOFFSETTO:-0500
TZNAME:EST
DTSTART:20261101T060000
END:STANDARD
END:VTIMEZONE
BEGIN:VEVENT
DTSTART;TZID=America/New_York:20250920T100000
DTEND;TZID=America/New_York:20250920T110000
DTSTAMP:20260425T130425
CREATED:20250917T202508Z
LAST-MODIFIED:20250917T202508Z
UID:42038-1758362400-1758366000@bnwaterkeeper.org
SUMMARY:BWELL To Host a Solo Sweep
DESCRIPTION:Join our partner @BWELL for a Solo Sweep along Scajaquada Creek this Saturday to remove trash from the watershed and collect litter data to support clean water advocacy! Meet at Raha Coffee House for the one-hour cleanup.
URL:https://bnwaterkeeper.org/event/bwell-to-host-a-solo-sweep-2025/
LOCATION:Raha Coffee House\, 370 Amherst St.\, Buffalo\, NY\, 14207\, United States
CATEGORIES:Events
END:VEVENT
BEGIN:VEVENT
DTSTART;TZID=America/New_York:20250920T100000
DTEND;TZID=America/New_York:20250920T160000
DTSTAMP:20260425T130425
CREATED:20250825T175016Z
LAST-MODIFIED:20250825T175016Z
UID:41962-1758362400-1758384000@bnwaterkeeper.org
SUMMARY:Door Open 2025 Hosted by Explore Buffalo
DESCRIPTION:Doors Open Buffalo\, Explore Buffalo’s signature annual event\, is a day of free public access to architecturally and historically significant locations. \nThis year’s event is Saturday\, Sept. 20 from 10 a.m. to 4 p.m. To prepare for the event\, help cleanup around Buffalo! Join in the Solo Sweep on Thursday\, Sept. 18 at Buffalo Niagara Waterkeeper’s office. The first 50 people to complete a cleanup will get a free drink ticket to 42 North in Buffalo. Learn more here. \nThe goal of Doors Open Buffalo is to excite visitors about Buffalo’s unique architectural heritage. Doors Open Buffalo is a unique opportunity to visit building interiors that are often not open to the public and is a choose-your-own-adventure event: visitors can visit as many locations and in whatever order they wish. \nView Participating Buildings At Explore Buffalo's Website Here
URL:https://bnwaterkeeper.org/event/door-open-2025/
LOCATION:NY
END:VEVENT
END:VCALENDAR