BEGIN:VCALENDAR
VERSION:2.0
PRODID:-//Buffalo Niagara Waterkeeper - ECPv6.15.18//NONSGML v1.0//EN
CALSCALE:GREGORIAN
METHOD:PUBLISH
X-ORIGINAL-URL:https://bnwaterkeeper.org
X-WR-CALDESC:Events for Buffalo Niagara Waterkeeper
REFRESH-INTERVAL;VALUE=DURATION:PT1H
X-Robots-Tag:noindex
X-PUBLISHED-TTL:PT1H
BEGIN:VTIMEZONE
TZID:America/New_York
BEGIN:DAYLIGHT
TZOFFSETFROM:-0500
TZOFFSETTO:-0400
TZNAME:EDT
DTSTART:20250309T070000
END:DAYLIGHT
BEGIN:STANDARD
TZOFFSETFROM:-0400
TZOFFSETTO:-0500
TZNAME:EST
DTSTART:20251102T060000
END:STANDARD
BEGIN:DAYLIGHT
TZOFFSETFROM:-0500
TZOFFSETTO:-0400
TZNAME:EDT
DTSTART:20260308T070000
END:DAYLIGHT
BEGIN:STANDARD
TZOFFSETFROM:-0400
TZOFFSETTO:-0500
TZNAME:EST
DTSTART:20261101T060000
END:STANDARD
BEGIN:DAYLIGHT
TZOFFSETFROM:-0500
TZOFFSETTO:-0400
TZNAME:EDT
DTSTART:20270314T070000
END:DAYLIGHT
BEGIN:STANDARD
TZOFFSETFROM:-0400
TZOFFSETTO:-0500
TZNAME:EST
DTSTART:20271107T060000
END:STANDARD
END:VTIMEZONE
BEGIN:VEVENT
DTSTART;TZID=America/New_York:20260205T170000
DTEND;TZID=America/New_York:20260205T200000
DTSTAMP:20260420T075525
CREATED:20260126T141823Z
LAST-MODIFIED:20260128T183003Z
UID:42522-1770310800-1770321600@bnwaterkeeper.org
SUMMARY:Film Screening at Aquarium
DESCRIPTION:You’re invited to view a free screening of The Fish Thief: A Great Lakes Mystery at the Aquarium of Niagara on Thursday\, Feb. 5 from 5 – 8 p.m. \nWhile free\, registration is required. You can do that below. \nThis documentary showcases the relentless efforts of scientists in both the United States and Canada to uncover and mitigate the cause of a devastating environmental crisis— vanishing populations of the most prized fish in the Great Lakes. Produced by SkyhoundMedia\, The Fish Thief: A Great Lakes Mystery delves into the battle to protect the Great Lakes from invasive species. Narrated by Oscar-winner J.K. Simmons\, the film brings together breathtaking visuals and expert insights to reveal the ecological stakes of preserving the world’s largest freshwater ecosystem. \nThis is hosted by the Aquarium of Niagara\, Great Lakes Fishery Commission\, Buffalo Niagara Waterkeeper\, and other conservation partners. There will be light refreshments prior to the screening\, and then a Q & A session with the director after the film. Learn more and register below. \nRegister Here
URL:https://bnwaterkeeper.org/event/film-screening-at-aquarium/
LOCATION:Aquarium of Niagara\, 701 Whirlpool St.\, Niagara Falls\, NY\, 14301\, United States
CATEGORIES:Events
END:VEVENT
END:VCALENDAR