BEGIN:VCALENDAR
VERSION:2.0
PRODID:-//Buffalo Niagara Waterkeeper - ECPv6.15.18//NONSGML v1.0//EN
CALSCALE:GREGORIAN
METHOD:PUBLISH
X-WR-CALNAME:Buffalo Niagara Waterkeeper
X-ORIGINAL-URL:https://bnwaterkeeper.org
X-WR-CALDESC:Events for Buffalo Niagara Waterkeeper
REFRESH-INTERVAL;VALUE=DURATION:PT1H
X-Robots-Tag:noindex
X-PUBLISHED-TTL:PT1H
BEGIN:VTIMEZONE
TZID:America/New_York
BEGIN:DAYLIGHT
TZOFFSETFROM:-0500
TZOFFSETTO:-0400
TZNAME:EDT
DTSTART:20210314T070000
END:DAYLIGHT
BEGIN:STANDARD
TZOFFSETFROM:-0400
TZOFFSETTO:-0500
TZNAME:EST
DTSTART:20211107T060000
END:STANDARD
BEGIN:DAYLIGHT
TZOFFSETFROM:-0500
TZOFFSETTO:-0400
TZNAME:EDT
DTSTART:20220313T070000
END:DAYLIGHT
BEGIN:STANDARD
TZOFFSETFROM:-0400
TZOFFSETTO:-0500
TZNAME:EST
DTSTART:20221106T060000
END:STANDARD
BEGIN:DAYLIGHT
TZOFFSETFROM:-0500
TZOFFSETTO:-0400
TZNAME:EDT
DTSTART:20230312T070000
END:DAYLIGHT
BEGIN:STANDARD
TZOFFSETFROM:-0400
TZOFFSETTO:-0500
TZNAME:EST
DTSTART:20231105T060000
END:STANDARD
END:VTIMEZONE
BEGIN:VEVENT
DTSTART;TZID=America/New_York:20220618T110000
DTEND;TZID=America/New_York:20220618T123000
DTSTAMP:20260421T074220
CREATED:20220617T184559Z
LAST-MODIFIED:20220617T184559Z
UID:37128-1655550000-1655555400@bnwaterkeeper.org
SUMMARY:Tifft RestoreCorps Planting Event
DESCRIPTION:Thank you for your interest in volunteering for our Tifft Nature Preserve RestoreCorps Event! Register here: RestoreCorps Plug Planting Week June 2022 (salsalabs.org)
URL:https://bnwaterkeeper.org/event/tifft-restorecorps-planting-event/
LOCATION:Tifft Nature Preserve\, 1200 Fuhrmann Boulevard\, Buffalo\, NY\, 14203\, United States
CATEGORIES:Events,RestoreCorps,Volunteer
ATTACH;FMTTYPE=image/webp:https://bnwaterkeeper.org/wp-content/uploads/2022/06/tifft-event.webp
ORGANIZER;CN="Rob Coady":MAILTO:rcoady@bnwaterkeeper.org
END:VEVENT
END:VCALENDAR