BEGIN:VCALENDAR
VERSION:2.0
PRODID:-//Buffalo Niagara Waterkeeper - ECPv6.15.18//NONSGML v1.0//EN
CALSCALE:GREGORIAN
METHOD:PUBLISH
X-WR-CALNAME:Buffalo Niagara Waterkeeper
X-ORIGINAL-URL:https://bnwaterkeeper.org
X-WR-CALDESC:Events for Buffalo Niagara Waterkeeper
REFRESH-INTERVAL;VALUE=DURATION:PT1H
X-Robots-Tag:noindex
X-PUBLISHED-TTL:PT1H
BEGIN:VTIMEZONE
TZID:America/New_York
BEGIN:DAYLIGHT
TZOFFSETFROM:-0500
TZOFFSETTO:-0400
TZNAME:EDT
DTSTART:20210314T070000
END:DAYLIGHT
BEGIN:STANDARD
TZOFFSETFROM:-0400
TZOFFSETTO:-0500
TZNAME:EST
DTSTART:20211107T060000
END:STANDARD
BEGIN:DAYLIGHT
TZOFFSETFROM:-0500
TZOFFSETTO:-0400
TZNAME:EDT
DTSTART:20220313T070000
END:DAYLIGHT
BEGIN:STANDARD
TZOFFSETFROM:-0400
TZOFFSETTO:-0500
TZNAME:EST
DTSTART:20221106T060000
END:STANDARD
BEGIN:DAYLIGHT
TZOFFSETFROM:-0500
TZOFFSETTO:-0400
TZNAME:EDT
DTSTART:20230312T070000
END:DAYLIGHT
BEGIN:STANDARD
TZOFFSETFROM:-0400
TZOFFSETTO:-0500
TZNAME:EST
DTSTART:20231105T060000
END:STANDARD
END:VTIMEZONE
BEGIN:VEVENT
DTSTART;TZID=America/New_York:20220924T080000
DTEND;TZID=America/New_York:20220924T110000
DTSTAMP:20260425T082710
CREATED:20220802T010723Z
LAST-MODIFIED:20220805T235144Z
UID:37260-1664006400-1664017200@bnwaterkeeper.org
SUMMARY:Scajaquada Scavenger Hunt
DESCRIPTION:Do you and your friends crush it on trivia night? Put your skills to the test to save Scajaquada Creek! \nYou and your team will visit locations along Scajaquada\, racing against other teams to complete activities while exploring the Creek. You might be asked to take a selfie with the Lincoln statue overlooking the Japanese Gardens or go to the mouth of Scajaquada and pick up as much litter as you can in 60 seconds. \nYour team will have 2 hours to complete as many challenges as possible\, with the goal of scoring more points than the other teams. Additional points and prizes can be earned through fundraising leading up to the Hunt. The team with the most points at the end of the Hunt will win a prize pack loaded with gift certificates from local shops\, restaurants\, and attractions! \nBe sure to register soon – the first 100 registrants will be able to join Buffalo Niagara Waterkeeper at the Post-Hunt Party at Buffalo Cider Hall! Registration coming soon.
URL:https://bnwaterkeeper.org/event/scajaquada-scavenger-hunt/
LOCATION:NY
CATEGORIES:Events
END:VEVENT
END:VCALENDAR