BEGIN:VCALENDAR
VERSION:2.0
PRODID:-//Buffalo Niagara Waterkeeper - ECPv6.15.18//NONSGML v1.0//EN
CALSCALE:GREGORIAN
METHOD:PUBLISH
X-ORIGINAL-URL:https://bnwaterkeeper.org
X-WR-CALDESC:Events for Buffalo Niagara Waterkeeper
REFRESH-INTERVAL;VALUE=DURATION:PT1H
X-Robots-Tag:noindex
X-PUBLISHED-TTL:PT1H
BEGIN:VTIMEZONE
TZID:America/New_York
BEGIN:DAYLIGHT
TZOFFSETFROM:-0500
TZOFFSETTO:-0400
TZNAME:EDT
DTSTART:20240310T070000
END:DAYLIGHT
BEGIN:STANDARD
TZOFFSETFROM:-0400
TZOFFSETTO:-0500
TZNAME:EST
DTSTART:20241103T060000
END:STANDARD
BEGIN:DAYLIGHT
TZOFFSETFROM:-0500
TZOFFSETTO:-0400
TZNAME:EDT
DTSTART:20250309T070000
END:DAYLIGHT
BEGIN:STANDARD
TZOFFSETFROM:-0400
TZOFFSETTO:-0500
TZNAME:EST
DTSTART:20251102T060000
END:STANDARD
BEGIN:DAYLIGHT
TZOFFSETFROM:-0500
TZOFFSETTO:-0400
TZNAME:EDT
DTSTART:20260308T070000
END:DAYLIGHT
BEGIN:STANDARD
TZOFFSETFROM:-0400
TZOFFSETTO:-0500
TZNAME:EST
DTSTART:20261101T060000
END:STANDARD
END:VTIMEZONE
BEGIN:VEVENT
DTSTART;TZID=America/New_York:20250904T170000
DTEND;TZID=America/New_York:20250904T200000
DTSTAMP:20260425T124348
CREATED:20250512T195501Z
LAST-MODIFIED:20250718T143013Z
UID:41666-1757005200-1757016000@bnwaterkeeper.org
SUMMARY:Scajaquada Watershed Event – Friends of Freedom Park hosts the annual Healing by the Water Series - Sept. 4
DESCRIPTION:The 2025 season of Healing By the Water hosted by Friends of Freedom Park is set for every Thursday night from July 10 to Sept. 11. \nThere will be vendors\, musicians\, food\, and more. \nThis is at the foot of Ferry near Niagara Street.
URL:https://bnwaterkeeper.org/event/healing-water-sept-4-2025/
LOCATION:Freedom Park\, 1170 Niagara St\, Buffalo\, NY\, 14213\, United States
CATEGORIES:Events
END:VEVENT
BEGIN:VEVENT
DTSTART;TZID=America/New_York:20250906T110000
DTEND;TZID=America/New_York:20250906T140000
DTSTAMP:20260425T124348
CREATED:20250826T165139Z
LAST-MODIFIED:20250826T165339Z
UID:41965-1757156400-1757167200@bnwaterkeeper.org
SUMMARY:Annual Party in the Park at Massachusetts Avenue 2025
DESCRIPTION:A community resource fair is scheduled at Massachusetts Avenue Park on Sept.6. It will be from 11 am to 2 p.m. and is free and open to the public. \nThere is no registration needed to attend. \nThe event will feature various resources and giveaways\, including: \n-school backpacks and supplies (child must be present to claim backpack) \n-home weatherization and lead test kits \n-free back to school haircuts. \nThis is hosted by Assemblymember Jon Rivera\, Councilmember David Rivera & Community Canvases’ WNY Trashmob.
URL:https://bnwaterkeeper.org/event/party-in-the-park-massachusetts-2025/
LOCATION:Massachusetts Avenue Park\, 378 Massachusetts Ave.\, Buffalo\, NY\, 14213\, United States
CATEGORIES:Events
END:VEVENT
BEGIN:VEVENT
DTSTART;TZID=America/New_York:20250911T170000
DTEND;TZID=America/New_York:20250911T200000
DTSTAMP:20260425T124348
CREATED:20250512T195616Z
LAST-MODIFIED:20250718T143042Z
UID:41667-1757610000-1757620800@bnwaterkeeper.org
SUMMARY:Scajaquada Watershed Event – Friends of Freedom Park hosts the annual Healing by the Water Series - Sept. 11
DESCRIPTION:The 2025 season of Healing By the Water hosted by Friends of Freedom Park is set for every Thursday night from July 10 to Sept. 11. \nThere will be vendors\, musicians\, food\, and more. \nThis is at the foot of Ferry near Niagara Street.
URL:https://bnwaterkeeper.org/event/healing-water-sept-11-2025/
LOCATION:Freedom Park\, 1170 Niagara St\, Buffalo\, NY\, 14213\, United States
CATEGORIES:Events
END:VEVENT
BEGIN:VEVENT
DTSTART;TZID=America/New_York:20250913T100000
DTEND;TZID=America/New_York:20250913T140000
DTSTAMP:20260425T124348
CREATED:20250905T170853Z
LAST-MODIFIED:20250905T170931Z
UID:42010-1757757600-1757772000@bnwaterkeeper.org
SUMMARY:Town of Boston to Hold Environmental Fair
DESCRIPTION:The annual Local Environmental Awareness Fair (LEAF) is scheduled for Saturday\, Sept. 13 from 10 a.m. to 2 p.m. \nThis annual fair is sponsored by the Boston Conservation Advisory Council and highlights the many organizations and resources available to the community that provide education\, services\, or products related to conservation\, wildlife\, agriculture\, the environment\, or the outdoors. This free\, family-friendly event will feature demonstrations\, activities\, and more. \nIt will be at the Lions Shelter at the Boston Town Hall on 8500 Boston State Road. Buffalo Niagara Waterkeeper will have a table at the event. \nLearn More Here \n \n 
URL:https://bnwaterkeeper.org/event/boston-ny-environmental-fair-2025/
LOCATION:Boston Town Hall\, 8500 Boston State Road\, Boston\, NY\, 14025\, United States
CATEGORIES:Events
END:VEVENT
BEGIN:VEVENT
DTSTART;TZID=America/New_York:20250913T100000
DTEND;TZID=America/New_York:20250913T170000
DTSTAMP:20260425T124348
CREATED:20250826T155458Z
LAST-MODIFIED:20250826T155458Z
UID:41964-1757757600-1757782800@bnwaterkeeper.org
SUMMARY:Scajaquada Watershed Event – Science Museum BubbleFEST 2025
DESCRIPTION:Get ready to celebrate 20 years of bubbly fun at Buffalo’s bubbliest day of the year – BubbleFEST! This is hosted by the Buffalo Museum of Science on Sept. 13 from 10 a.m. to 5 p.m. \nLearn more about the event below. Buffalo Niagara Waterkeeper and will be on site to talk more about our work around the Scajaquada Creek Watershed. \nThis day will feature: \n\nInteractive bubble activities throughout the museum\, from small bubbles to giant bubbles you can stand in!\nA groovy bubble disco\nAn outdoor Foam Zone with Buffalo Foam Parties (weather permitting)\n\nSpecial 20th anniversary bonus!\nAll tickets include access to a new auditorium stage show with special guest\, Ms. Bubbles from Wow Party Buffalo! These 20-minute shows start at 10:30 a.m.\, 11:30 a.m.\, 1 p.m.\, 2 p.m. and 3 p.m. Open seating for these shows is available on a first-come\, first seated basis. Arrive to the auditorium early for best availability! \nLearn more and purchase tickets here
URL:https://bnwaterkeeper.org/event/science-museum-bubblefest-2025/
LOCATION:Buffalo Museum of Science\, 1020 Humboldt Parkway\, Buffalo\, NY\, 14211\, United States
CATEGORIES:Events
END:VEVENT
BEGIN:VEVENT
DTSTART;TZID=America/New_York:20250918T170000
DTEND;TZID=America/New_York:20250918T190000
DTSTAMP:20260425T124348
CREATED:20250813T174047Z
LAST-MODIFIED:20250813T174047Z
UID:41920-1758214800-1758222000@bnwaterkeeper.org
SUMMARY:Solo Sweep for Doors Open
DESCRIPTION:Sign up for the Solo Sweep for Doors Open event on Sept. 18 from 5 to 7 p.m. around Buffalo’s theater district. \nHelp clean the streets and sidewalks around Buffalo prior to Explore Buffalo’s Doors Open event.  \nLet’s make the city shine as we welcome thousands of visitors to our area.  \nFirst 50 people to register and perform the cleanup on Sept. 18 will earn a drink ticket at 42 North Brewery in Buffalo. Join us at the Buffalo Niagara Waterkeeper office\, 721 Main. St.\, Buffalo. \nRegister Here
URL:https://bnwaterkeeper.org/event/solo-sweep-for-doors-open/
LOCATION:Buffalo Niagara Waterkeeper\, 721 Main St\, Buffalo\, NY\, 14203\, United States
CATEGORIES:Events
END:VEVENT
BEGIN:VEVENT
DTSTART;TZID=America/New_York:20250919T183000
DTEND;TZID=America/New_York:20250919T210000
DTSTAMP:20260425T124348
CREATED:20250630T130720Z
LAST-MODIFIED:20250630T130720Z
UID:41875-1758306600-1758315600@bnwaterkeeper.org
SUMMARY:River Rock Run 2025- Scajaquada Watershed Event
DESCRIPTION:The BRRAlliance (Black Rock Riverside Alliance) is hosting its fourth annual River Rock Run 5K on Friday\, Sept. 19 at 6:30 p.m. This starts and ends at Riverside Park. \nThis sunset run lets runners view a sunset over the Niagara River during the run. Proceeds benefit the BRRAlliance and its mission to improve quality of life and community enrichment for those that live and work in North District of Buffalo. \nThe cost is $35. Click below for more info and to register. \nRegister Here\n 
URL:https://bnwaterkeeper.org/event/river-rock-run-2025/
LOCATION:Riverside Park\, 2607 Niagara Street\, Buffalo\, NY\, 14207\, United States
CATEGORIES:Events
END:VEVENT
BEGIN:VEVENT
DTSTART;TZID=America/New_York:20250920T100000
DTEND;TZID=America/New_York:20250920T110000
DTSTAMP:20260425T124348
CREATED:20250917T202508Z
LAST-MODIFIED:20250917T202508Z
UID:42038-1758362400-1758366000@bnwaterkeeper.org
SUMMARY:BWELL To Host a Solo Sweep
DESCRIPTION:Join our partner @BWELL for a Solo Sweep along Scajaquada Creek this Saturday to remove trash from the watershed and collect litter data to support clean water advocacy! Meet at Raha Coffee House for the one-hour cleanup.
URL:https://bnwaterkeeper.org/event/bwell-to-host-a-solo-sweep-2025/
LOCATION:Raha Coffee House\, 370 Amherst St.\, Buffalo\, NY\, 14207\, United States
CATEGORIES:Events
END:VEVENT
BEGIN:VEVENT
DTSTART;TZID=America/New_York:20250920T100000
DTEND;TZID=America/New_York:20250920T160000
DTSTAMP:20260425T124348
CREATED:20250825T175016Z
LAST-MODIFIED:20250825T175016Z
UID:41962-1758362400-1758384000@bnwaterkeeper.org
SUMMARY:Door Open 2025 Hosted by Explore Buffalo
DESCRIPTION:Doors Open Buffalo\, Explore Buffalo’s signature annual event\, is a day of free public access to architecturally and historically significant locations. \nThis year’s event is Saturday\, Sept. 20 from 10 a.m. to 4 p.m. To prepare for the event\, help cleanup around Buffalo! Join in the Solo Sweep on Thursday\, Sept. 18 at Buffalo Niagara Waterkeeper’s office. The first 50 people to complete a cleanup will get a free drink ticket to 42 North in Buffalo. Learn more here. \nThe goal of Doors Open Buffalo is to excite visitors about Buffalo’s unique architectural heritage. Doors Open Buffalo is a unique opportunity to visit building interiors that are often not open to the public and is a choose-your-own-adventure event: visitors can visit as many locations and in whatever order they wish. \nView Participating Buildings At Explore Buffalo's Website Here
URL:https://bnwaterkeeper.org/event/door-open-2025/
LOCATION:NY
END:VEVENT
END:VCALENDAR